Workbook
Name _0301: '[1]2A'!#REF!
Name Hej: #REF!
Name K029B8: '[2]5B'!#REF!
Name K05B2: '[2]5B'!#REF!
Name K06BN1: '[2]6B'!#REF!
Name K08BN1: '[2]8B'!#REF!
Name K10C1: '[2]10C'!#REF!
Name K10C3: '[2]10C'!#REF!
Name K10C4: '[2]10C'!#REF!
Name K11BN1: '[2]11B'!#REF!
Name K14A3: '[2]14A'!#REF!
Name K14AN2: '[2]14A'!#REF!
Name K17AN1: '[2]17A'!#REF!
Name K18BN1: '[2]18B'!#REF!
Name K20AN1: '[2]20A'!#REF!
Name K20AN2: '[2]20A'!#REF!
Name K20AN3: '[2]20A'!#REF!
Name K20AN4: '[2]20A'!#REF!
Name K22A1: #REF!
Name K22A2: #REF!
Name K22AN1: #REF!
Name K22AN2: #REF!
Name K22AN3: #REF!
Name K22B0A: #REF!
Name K22B0O: #REF!
Name K22B1: #REF!
Name K22B2: #REF!
Name K22BN1: #REF!
Name K22BN2: #REF!
Name K22BN3: #REF!
Name K22BN4: #REF!
Name K22BN5: #REF!
Name K22C0A: #REF!
Name K22C0O: #REF!
Name K22C1: #REF!
Name K22C3: #REF!
Name K22CN1: #REF!
Name K22CN2: #REF!
Name K22CN3: #REF!
Name K22D0A: #REF!
Name K22D0O: #REF!
Name K22D1: #REF!
Name K22DN1: #REF!
Name K22DN2: #REF!
Name K22DN3: #REF!
Name K23AN1: '[2]23A'!#REF!
Name K23AN4: '[2]23A'!#REF!
Name K24AN1: '[2]24A'!#REF!
Name K28AN4: '[2]28A'!#REF!
Name K35AN1: '[2]35A'!#REF!
Name K36A0A: #REF!
Name K36A0O: #REF!
Name K36A1: #REF!
Name K36AN3: #REF!
Name K36AN4: #REF!
Name K36B0A: #REF!
Name K36B0O: #REF!
Name K36B1: #REF!
Name K36BN1: #REF!
Name K36BN2: #REF!

Sheet FODTERAPINØGLE
A3: Nøgletal for fodterapi
A5: Tidspunkt for beregningen | J5: ='[1]GENERELLE NØGLETAL'!E6 -> 1. april 2026
A7: Nettoprisindekset 2015 | J7: 100
A8: Nettoprisindekset pr. 1. januar/1. juli dette år | J8: ='[1]GENERELLE NØGLETAL'!E16 -> 100.27
A9: Nettoprisindeks ½ år tidligere | J9: ='[1]GENERELLE NØGLETAL'!E18 -> 101.31
A11: Indtast reguleringsprocenten for ansatte i regioner pr. 1. april/1. oktober/1. januar dette år | J11: ='[1]GENERELLE NØGLETAL'!E19+100 -> 119.8008
A12: Reguleringsprocenten for ansatte i regioner ½ år tidligere | J12: ='[1]GENERELLE NØGLETAL'!E20+100 -> 116.18
A14: Tilskud speciale 54- diabetes | J14: 50 | K14: %
A15: Tilskud speciale 55- nedgroede negle | J15: 40 | K15: %
A16: Tilskud speciale 59 - arvævspatienter | J16: 40 | K16: %
A17: Tilskud speciale 60 - svær ledgigt | J17: 50 | K17: %
A20: Kørselsgodtgørelse pr. 1. januar dette år
A21: Indtil 20.000 km | E21: ='[1]GENERELLE NØGLETAL'!D25 -> 3.94
A22: over 20.000 km | E22: ='[1]GENERELLE NØGLETAL'!D26 -> 2.28
J45: 94.41
J46: 113.06
J47: 153.7

Sheet FODTERAPIBEREGN
A3: Fodterapi
A4: Regulering af honorarer pr. | D4: ='[1]GENERELLE NØGLETAL'!E6 -> 1. april 2026
G6: ='[1]GENERELLE NØGLETAL'!E6 -> 1. april 2026 | I6: ½ år tidligere
A7: Reguleringsprocent for ansatte i regioner | G7: ='[1]GENERELLE NØGLETAL'!E19+100 -> 119.8008 | I7: ='[1]GENERELLE NØGLETAL'!E20+100 -> 116.18
A10: Stigning i procent det sidste halve år | G10: =(G7/I7-1)*100 -> 3.1165433 | H10: %
N11: Modregningen er for, at fodterapeuterne kan
A12: Nettoprisindekset | G12: ='[1]GENERELLE NØGLETAL'!E16 -> 100.27 | I12: ='[1]GENERELLE NØGLETAL'!E18 -> 101.31 | N12: indbetale 500.000 kr. til anvendelse til forhøjelse
A13: Stigning det sidste halve år | G13: =(G12/I12-1)*100 -> -1.0265522 | H13: % | N13: af honorar for udvalgte ydelser. Modregningen
N14: faldt bort pr. 01/04 2017, da de 500.000 kr. er
A15: Omkostningsandel: | N15: tilbagebetalt.
A16: 34 % af den procentvise stigning i nettoprisindeks for det sidste ½ år | G16: =ROUND(G13*0.34,2) -> -0.35 | H16: %
N17: Grundet overenskomstforhandlingerne i foråret 2018 var
N18: reguleringen forsinket, og der blev derfor først reguleret pr.
A19: Nettoandel: | N19: 1/6-2018. Grundet dette var reguleringsprocenten for denne
A20: 66% af den procentvise stigning i den særlige reguleringsprocent | G20: =G10*0.66 -> 2.0569186 | H20: % | N20: periode =AFRUND(0,33%*(1+2/4);2)=0,50, ved oktober 2018
A21: for regioner for det sidste ½ år | N21: reguleringen bliver der reguleret ud fra den ordinære
N22: reguleringsprocent 0,33 %.
A23: Omkostningsandel + nettoandel | G23: =ROUND(G20+G16,2) -> 1.71 | H23: %
A25: Reguleringsprocenten pr. | G25: =G23 -> 1.71 | H25: % | I25: 1.22 | J25: %
A26: Modregning | H26: %
A27: Midlertidig kompensation for manglende honorering | H27: %
A28: Stigning i honorarer i det sidste ½ år | G28: =G25+G26+G27 -> 1.71 | H28: %
J45: 94.41
J46: 113.06
J47: 153.7

Sheet 39A
A3: Fodbehandling
A4: Fodbehandling af sukkersyge patienter 54
A6: Gældende fra | E6: ='[1]GENERELLE NØGLETAL'!E6 -> 1. april 2026
A7: ="Regulering pr. " & '[1]GENERELLE NØGLETAL'!E6 -> Regulering pr. 1. april 2026 | E7: =[1]FODTERAPIBEREGN!G28 -> 1.71
A9: Overenskomstens §§ 20-23
A11: Grundhonorarer og honorarer
A12: Ydelse | I12: Ydelsesnummer | J12: Honorar ved sidste afregning | K12: Fuldt honorar | L12: Tilskud | M12: Patientandel
A13: Journaloptagelse | I13: 2100 | J13: 121.59 | K13: =ROUND(J13*(1+$E$7/100),2) -> 123.67 | L13: =K13-M13 -> 61.83 | M13: =ROUND(K13*(1-[1]FODTERAPINØGLE!$J$14/100),2) -> 61.84
A14: Kontrol og/eller eftersyn samt små ydelser | I14: 2130 | J14: 100.14 | K14: =ROUND(J14*(1+$E$7/100),2) -> 101.85 | L14: =K14-M14 -> 50.92 | M14: =ROUND(K14*(1-[1]FODTERAPINØGLE!$J$14/100),2) -> 50.93
A15: Video konsultation/vejledning | I15: 2132 | J15: 282.05 | K15: =ROUND(J15*(1+$E$7/100),2) -> 286.87 | L15: =K15-M15 -> 143.43 | M15: =ROUND(K15*(1-[1]FODTERAPINØGLE!$J$14/100),2) -> 143.44
A16: Bøjlebehandling
A17: Behandling før påsætning af 1 ny bøjle | I17: 2140 | J17: 87.09 | K17: =ROUND(J17*(1+$E$7/100),2) -> 88.58 | L17: =K17-M17 -> 44.29 | M17: =ROUND(K17*(1-[1]FODTERAPINØGLE!$J$14/100),2) -> 44.29
A18: Fremstilling og påsætning af 1 ny bøjle | I18: 2141 | J18: 261.3 | K18: =ROUND(J18*(1+$E$7/100),2) -> 265.77 | L18: =K18-M18 -> 132.88 | M18: =ROUND(K18*(1-[1]FODTERAPINØGLE!$J$14/100),2) -> 132.89
A19: Fremstilling og påsætning af bøjler udover 1 | I19: 2142 | J19: 174.22 | K19: =ROUND(J19*(1+$E$7/100),2) -> 177.2 | L19: =K19-M19 -> 88.6 | M19: =ROUND(K19*(1-[1]FODTERAPINØGLE!$J$14/100),2) -> 88.6
A20: Korrektion af 1 bøjle | I20: 2143 | J20: 174.22 | K20: =ROUND(J20*(1+$E$7/100),2) -> 177.2 | L20: =K20-M20 -> 88.6 | M20: =ROUND(K20*(1-[1]FODTERAPINØGLE!$J$14/100),2) -> 88.6
A21: Korrektion af 2 bøjler | I21: 2144 | J21: 261.3 | K21: =ROUND(J21*(1+$E$7/100),2) -> 265.77 | L21: =K21-M21 -> 132.88 | M21: =ROUND(K21*(1-[1]FODTERAPINØGLE!$J$14/100),2) -> 132.89
A22: Korrektion af op til 10 bøjler inkl. | I22: 2145 | J22: 348.43 | K22: =ROUND(J22*(1+$E$7/100),2) -> 354.39 | L22: =K22-M22 -> 177.19 | M22: =ROUND(K22*(1-[1]FODTERAPINØGLE!$J$14/100),2) -> 177.2 | R22: OBS ved regulering 01-04-2023 fjernes "-0,01" fra formlen på speciale 54 og 60 (2145)
A23: Ortheser
A24: Ortheser | I24: 2150 | J24: 174.22 | K24: =ROUND(J24*(1+$E$7/100),2) -> 177.2 | L24: =K24-M24 -> 88.6 | M24: =ROUND(K24*(1-[1]FODTERAPINØGLE!$J$14/100),2) -> 88.6
A25: Ortheser fremstillet af silicone | I25: 2151 | J25: 174.22 | K25: =ROUND(J25*(1+$E$7/100),2) -> 177.2 | L25: =K25-M25 -> 88.6 | M25: =ROUND(K25*(1-[1]FODTERAPINØGLE!$J$14/100),2) -> 88.6
A26: Indlæg
A27: Indlæg - Type I, enkelt | I27: 2152 | J27: 128.7 | K27: =ROUND(J27*(1+$E$7/100),2) -> 130.9 | L27: =K27-M27 -> 65.45 | M27: =ROUND(K27*(1-[1]FODTERAPINØGLE!$J$14/100),2) -> 65.45
A28: Indlæg - Type I, par | I28: 2153 | J28: 390 | K28: =ROUND(J28*(1+$E$7/100),2) -> 396.67 | L28: =K28-M28 -> 198.33 | M28: =ROUND(K28*(1-[1]FODTERAPINØGLE!$J$14/100),2) -> 198.34
A29: Indlæg - Type II, enkelt | I29: 2154 | J29: 651.34 | K29: =ROUND(J29*(1+$E$7/100),2) -> 662.48 | L29: =K29-M29 -> 331.24 | M29: =ROUND(K29*(1-[1]FODTERAPINØGLE!$J$14/100),2) -> 331.24
A30: Indlæg - Type II, par | I30: 2155 | J30: 1173.97 | K30: =ROUND(J30*(1+$E$7/100),2) -> 1194.04 | L30: =K30-M30 -> 597.02 | M30: =ROUND(K30*(1-[1]FODTERAPINØGLE!$J$14/100),2) -> 597.02
A31: Indlæg - Type III, enkelt | I31: 2156 | J31: 1173.97 | K31: =ROUND(J31*(1+$E$7/100),2) -> 1194.04 | L31: =K31-M31 -> 597.02 | M31: =ROUND(K31*(1-[1]FODTERAPINØGLE!$J$14/100),2) -> 597.02
A32: Indlæg - Type III, par | I32: 2157 | J32: 1957.97 | K32: =ROUND(J32*(1+$E$7/100),2) -> 1991.45 | L32: =K32-M32 -> 995.72 | M32: =ROUND(K32*(1-[1]FODTERAPINØGLE!$J$14/100),2) -> 995.73
A33: Tilretning af indlæg | I33: 2158 | J33: 308.69 | K33: =ROUND(J33*(1+$E$7/100),2) -> 313.97 | L33: =K33-M33 -> 156.98 | M33: =ROUND(K33*(1-[1]FODTERAPINØGLE!$J$14/100),2) -> 156.99
A34: Indlægsundersøgelse | I34: 2159 | J34: 393.97 | K34: =ROUND(J34*(1+$E$7/100),2) -> 400.71 | L34: =K34-M34 -> 200.35 | M34: =ROUND(K34*(1-[1]FODTERAPINØGLE!$J$14/100),2) -> 200.36
A35: Fodstatus
A36: Første fodstatus (nyhenvist patient) | I36: 2180 | J36: 374.91 | K36: =ROUND(J36*(1+$E$7/100),2) -> 381.32 | L36: =K36-M36 -> 190.66 | M36: =ROUND(K36*(1-[1]FODTERAPINØGLE!$J$14/100),2) -> 190.66
A37: Fodstatus | I37: 2170 | J37: 303.38 | K37: =ROUND(J37*(1+$E$7/100),2) -> 308.57 | L37: =K37-M37 -> 154.28 | M37: =ROUND(K37*(1-[1]FODTERAPINØGLE!$J$14/100),2) -> 154.29
A38: Fodstatus med anden samtidig behandling | I38: 2171 | J38: 254.94 | K38: =ROUND(J38*(1+$E$7/100),2) -> 259.3 | L38: =K38-M38 -> 129.65 | M38: =ROUND(K38*(1-[1]FODTERAPINØGLE!$J$14/100),2) -> 129.65
A39: Opdatering af fodstatus ved skift i risikogruppe | I39: 2131 | J39: 97.96 | K39: =ROUND(J39*(1+$E$7/100),2) -> 99.64 | L39: =K39-M39 -> 49.82 | M39: =ROUND(K39*(1-[1]FODTERAPINØGLE!$J$14/100),2) -> 49.82
A40: Beskæringsydelser
A41: Behandlingsydelse A | I41: 2172 | J41: 307.96 | K41: =ROUND(J41*(1+$E$7/100),2) -> 313.23 | L41: =K41-M41 -> 156.61 | M41: =ROUND(K41*(1-[1]FODTERAPINØGLE!$J$14/100),2) -> 156.62
A42: Behandlingsydelse B | I42: 2173 | J42: 447.25 | K42: =ROUND(J42*(1+$E$7/100),2) -> 454.9 | L42: =K42-M42 -> 227.45 | M42: =ROUND(K42*(1-[1]FODTERAPINØGLE!$J$14/100),2) -> 227.45
A43: Behandlingsydelse C | I43: 2174 | J43: 491.58 | K43: =ROUND(J43*(1+$E$7/100),2) -> 499.99 | L43: =K43-M43 -> 249.99 | M43: =ROUND(K43*(1-[1]FODTERAPINØGLE!$J$14/100),2) -> 250
A44: Sårbehandling | I44: 2175 | J44: 226.69 | K44: =ROUND(J44*(1+$E$7/100),2) -> 230.57 | L44: =K44-M44 -> 115.28 | M44: =ROUND(K44*(1-[1]FODTERAPINØGLE!$J$14/100),2) -> 115.29
A45: Sårbehandling med anden samtidig behandling | I45: 2176 | J45: 181.1 | K45: =ROUND(J45*(1+$E$7/100),2) -> 184.2 | L45: =K45-M45 -> 92.1 | M45: =ROUND(K45*(1-[1]FODTERAPINØGLE!$J$14/100),2) -> 92.1
A46: Behandling uden tilskud | I46: 2177 | J46: 0 | K46: =ROUND(J46*(1+$E$7/100),2) -> 0 | L46: =K46-M46 -> 0 | M46: =ROUND(K46*(1-[1]FODTERAPINØGLE!$J$14/100),2) -> 0
A47: Afstandstillæg
A48: Afstandstillæg 0-5 km | I48: 2164 | J48: 106.49 | K48: =ROUND(J48*(1+$E$7/100),2) -> 108.31 | L48: =K48-M48 -> 54.15 | M48: =ROUND(K48*(1-[1]FODTERAPINØGLE!$J$14/100),2) -> 54.16
A49: Afstandstillæg 5-10 km | I49: 2165 | J49: 127.55 | K49: =ROUND(J49*(1+$E$7/100),2) -> 129.73 | L49: =K49-M49 -> 64.86 | M49: =ROUND(K49*(1-[1]FODTERAPINØGLE!$J$14/100),2) -> 64.87
A50: Afstandstillæg over 10 km | I50: 2166 | J50: 173.4 | K50: =ROUND(J50*(1+$E$7/100),2) -> 176.37 | L50: =K50-M50 -> 88.18 | M50: =ROUND(K50*(1-[1]FODTERAPINØGLE!$J$14/100),2) -> 88.19
A51: Afstandstillæg - plejehjem/pensionist i egen hjem (0-5 km) | I51: 2167 | J51: 106.49 | K51: =ROUND(J51*(1+$E$7/100),2) -> 108.31 | L51: =K51-M51 -> 108.31 | M51: 0
A52: Afstandstillæg - plejehjem/pensionist i egen hjem (5-10 km) | I52: 2168 | J52: 127.55 | K52: =ROUND(J52*(1+$E$7/100),2) -> 129.73 | L52: =K52-M52 -> 129.73 | M52: 0
A53: Afstandstillæg - plejehjem/pensionist i egen hjem (over 10 km) | I53: 2169 | J53: 173.4 | K53: =ROUND(J53*(1+$E$7/100),2) -> 176.37 | L53: =K53-M53 -> 176.37 | M53: 0
A54: Afstandstillæg uden tilskud | I54: 2178 | J54: 0 | K54: =ROUND(J54*(1+$E$7/100),2) -> 0 | L54: =K54-M54 -> 0 | M54: =ROUND(K54*(1-[1]FODTERAPINØGLE!$J$14/100),2) -> 0
A55: Kørselsgodtgørelse
A56: Indtil 20.000 km | I56: 1001 | M56: =[1]FODTERAPINØGLE!E21 -> 3.94
A57: Over 20.000 km | I57: 1002 | M57: =[1]FODTERAPINØGLE!E22 -> 2.28

Sheet 39B
A3: Fodbehandling
A4: Fodbehandling af patienter med nedgroede tånegle 55
A6: Gældende fra | E6: ='[1]GENERELLE NØGLETAL'!E6 -> 1. april 2026
A7: ="Regulering pr. " & '[1]GENERELLE NØGLETAL'!E6 -> Regulering pr. 1. april 2026 | E7: =[1]FODTERAPIBEREGN!G28 -> 1.71
A9: Overenskomstens §§ 20-23
A11: Grundhonorarer og honorarer
A12: Ydelse | I12: Ydelsesnummer | J12: Honorar ved sidste afregning | K12: Fuldt honorar | L12: Tilskud | M12: Patientandel
A13: Journaloptagelse | I13: 2100 | J13: 121.59 | K13: =ROUND(J13*(1+$E$7/100),2) -> 123.67 | L13: =K13-M13 -> 49.47 | M13: =ROUND(K13*(1-[1]FODTERAPINØGLE!$J$15/100),2) -> 74.2
A14: Kontrol og/eller eftersyn samt små ydelser | I14: 2130 | J14: 100.14 | K14: =ROUND(J14*(1+$E$7/100),2) -> 101.85 | L14: =K14-M14 -> 40.74 | M14: =ROUND(K14*(1-[1]FODTERAPINØGLE!$J$15/100),2) -> 61.11
A15: Video konsultation/vejledning | I15: 2132 | J15: 282.05 | K15: =ROUND(J15*(1+$E$7/100),2) -> 286.87 | L15: =K15-M15 -> 114.75 | M15: =ROUND(K15*(1-[1]FODTERAPINØGLE!$J$15/100),2) -> 172.12
A16: Bøjlebehandling
A17: Behandling før påsætning af 1 ny bøjle | I17: 2140 | J17: 87.09 | K17: =ROUND(J17*(1+$E$7/100),2) -> 88.58 | L17: =K17-M17 -> 35.43 | M17: =ROUND(K17*(1-[1]FODTERAPINØGLE!$J$15/100),2) -> 53.15
A18: Fremstilling og påsætning af 1 ny bøjle | I18: 2141 | J18: 261.3 | K18: =ROUND(J18*(1+$E$7/100),2) -> 265.77 | L18: =K18-M18 -> 106.31 | M18: =ROUND(K18*(1-[1]FODTERAPINØGLE!$J$15/100),2) -> 159.46
A19: Fremstilling og påsætning af bøjler udover 1 | I19: 2142 | J19: 174.22 | K19: =ROUND(J19*(1+$E$7/100),2) -> 177.2 | L19: =K19-M19 -> 70.88 | M19: =ROUND(K19*(1-[1]FODTERAPINØGLE!$J$15/100),2) -> 106.32
A20: Korrektion af 1 bøjle | I20: 2143 | J20: 174.22 | K20: =ROUND(J20*(1+$E$7/100),2) -> 177.2 | L20: =K20-M20 -> 70.88 | M20: =ROUND(K20*(1-[1]FODTERAPINØGLE!$J$15/100),2) -> 106.32
A21: Korrektion af 2 bøjler | I21: 2144 | J21: 261.3 | K21: =ROUND(J21*(1+$E$7/100),2) -> 265.77 | L21: =K21-M21 -> 106.31 | M21: =ROUND(K21*(1-[1]FODTERAPINØGLE!$J$15/100),2) -> 159.46
A22: Korrektion af op til 10 bøjler inkl. | I22: 2145 | J22: 348.43 | K22: =ROUND(J22*(1+$E$7/100),2) -> 354.39 | L22: =K22-M22 -> 141.76 | M22: =ROUND(K22*(1-[1]FODTERAPINØGLE!$J$15/100),2) -> 212.63
A23: Behandling uden tilskud | I23: 2177 | J23: 0 | K23: =ROUND(J23*(1+$E$7/100),2) -> 0 | L23: =K23-M23 -> 0 | M23: =ROUND(K23*(1-[1]FODTERAPINØGLE!$J$14/100),2) -> 0
A24: Ortheser
A25: Ortheser | I25: 2150 | J25: 174.22 | K25: =ROUND(J25*(1+$E$7/100),2) -> 177.2 | L25: =K25-M25 -> 70.88 | M25: =ROUND(K25*(1-[1]FODTERAPINØGLE!$J$15/100),2) -> 106.32
A26: Ortheser fremstillet af silicone | I26: 2151 | J26: 174.22 | K26: =ROUND(J26*(1+$E$7/100),2) -> 177.2 | L26: =K26-M26 -> 70.88 | M26: =ROUND(K26*(1-[1]FODTERAPINØGLE!$J$15/100),2) -> 106.32
A27: Afstandstillæg
A28: Afstandstillæg 0-5 km | I28: 2164 | J28: 106.49 | K28: =ROUND(J28*(1+$E$7/100),2) -> 108.31 | L28: =K28-M28 -> 43.32 | M28: =ROUND(K28*(1-[1]FODTERAPINØGLE!$J$15/100),2) -> 64.99
A29: Afstandstillæg 5-10 km | I29: 2165 | J29: 127.55 | K29: =ROUND(J29*(1+$E$7/100),2) -> 129.73 | L29: =K29-M29 -> 51.89 | M29: =ROUND(K29*(1-[1]FODTERAPINØGLE!$J$15/100),2) -> 77.84
A30: Afstandstillæg over 10 km | I30: 2166 | J30: 173.4 | K30: =ROUND(J30*(1+$E$7/100),2) -> 176.37 | L30: =K30-M30 -> 70.55 | M30: =ROUND(K30*(1-[1]FODTERAPINØGLE!$J$15/100),2) -> 105.82
A31: Afstandstillæg - plejehjem/pensionist i egen hjem (0-5 km) | I31: 2167 | J31: 106.49 | K31: =ROUND(J31*(1+$E$7/100),2) -> 108.31 | L31: =K31-M31 -> 108.31 | M31: 0
A32: Afstandstillæg - plejehjem/pensionist i egen hjem (5-10 km) | I32: 2168 | J32: 127.55 | K32: =ROUND(J32*(1+$E$7/100),2) -> 129.73 | L32: =K32-M32 -> 129.73 | M32: 0
A33: Afstandstillæg - plejehjem/pensionist i egen hjem (over 10 km) | I33: 2169 | J33: 173.4 | K33: =ROUND(J33*(1+$E$7/100),2) -> 176.37 | L33: =K33-M33 -> 176.37 | M33: 0
A34: Afstandstillæg uden tilskud | I34: 2178 | J34: 0 | K34: =ROUND(J34*(1+$E$7/100),2) -> 0 | L34: =K34-M34 -> 0 | M34: =ROUND(K34*(1-[1]FODTERAPINØGLE!$J$14/100),2) -> 0
A35: Kørselsgodtgørelse
A36: Indtil 20.000 km | I36: 1001 | M36: =[1]FODTERAPINØGLE!E21 -> 3.94
A37: Over 20.000 km | I37: 1002 | M37: =[1]FODTERAPINØGLE!E22 -> 2.28

Sheet 39C
A3: Fodbehandling
A4: Fodbehandling af arvævspatienter efter strålebehandling 59
A6: Gældende fra | E6: ='[1]GENERELLE NØGLETAL'!E6 -> 1. april 2026
A7: ="Regulering pr. " & '[1]GENERELLE NØGLETAL'!E6 -> Regulering pr. 1. april 2026 | E7: =[1]FODTERAPIBEREGN!G28 -> 1.71
A9: Overenskomstens §§ 20-23
A11: Grundhonorarer og honorarer
A12: Ydelse | I12: Ydelsesnummer | J12: Honorar ved sidste afregning | K12: Fuldt honorar | L12: Tilskud | M12: Patientandel
A13: Journaloptagelse | I13: 2100 | J13: 121.59 | K13: =ROUND(J13*(1+$E$7/100),2) -> 123.67 | L13: =K13-M13 -> 49.47 | M13: =ROUND(K13*(1-[1]FODTERAPINØGLE!$J$16/100),2) -> 74.2
A14: Kontrol og/eller eftersyn samt små ydelser | I14: 2130 | J14: 100.14 | K14: =ROUND(J14*(1+$E$7/100),2) -> 101.85 | L14: =K14-M14 -> 40.74 | M14: =ROUND(K14*(1-[1]FODTERAPINØGLE!$J$16/100),2) -> 61.11
A15: Video konsultation/vejledning | I15: 2132 | J15: 282.05 | K15: =ROUND(J15*(1+$E$7/100),2) -> 286.87 | L15: =K15-M15 -> 114.75 | M15: =ROUND(K15*(1-[1]FODTERAPINØGLE!$J$16/100),2) -> 172.12
A16: Ortheser
A17: Ortheser | I17: 2150 | J17: 174.22 | K17: =ROUND(J17*(1+$E$7/100),2) -> 177.2 | L17: =K17-M17 -> 70.88 | M17: =ROUND(K17*(1-[1]FODTERAPINØGLE!$J$16/100),2) -> 106.32
A18: Ortheser fremstillet af silicone | I18: 2151 | J18: 174.22 | K18: =ROUND(J18*(1+$E$7/100),2) -> 177.2 | L18: =K18-M18 -> 70.88 | M18: =ROUND(K18*(1-[1]FODTERAPINØGLE!$J$16/100),2) -> 106.32
A19: Indlæg
A20: Indlæg - Type I, enkelt | I20: 2152 | J20: 128.7 | K20: =ROUND(J20*(1+$E$7/100),2) -> 130.9 | L20: =K20-M20 -> 52.36 | M20: =ROUND(K20*(1-[1]FODTERAPINØGLE!$J$16/100),2) -> 78.54
A21: Indlæg - Type I, par | I21: 2153 | J21: 390 | K21: =ROUND(J21*(1+$E$7/100),2) -> 396.67 | L21: =K21-M21 -> 158.67 | M21: =ROUND(K21*(1-[1]FODTERAPINØGLE!$J$16/100),2) -> 238
A22: Indlæg - Type II, enkelt | I22: 2154 | J22: 651.34 | K22: =ROUND(J22*(1+$E$7/100),2) -> 662.48 | L22: =K22-M22 -> 264.99 | M22: =ROUND(K22*(1-[1]FODTERAPINØGLE!$J$16/100),2) -> 397.49
A23: Indlæg - Type II, par | I23: 2155 | J23: 1173.97 | K23: =ROUND(J23*(1+$E$7/100),2) -> 1194.04 | L23: =K23-M23 -> 477.62 | M23: =ROUND(K23*(1-[1]FODTERAPINØGLE!$J$16/100),2) -> 716.42
A24: Indlæg - Type III, enkelt | I24: 2156 | J24: 1173.97 | K24: =ROUND(J24*(1+$E$7/100),2) -> 1194.04 | L24: =K24-M24 -> 477.62 | M24: =ROUND(K24*(1-[1]FODTERAPINØGLE!$J$16/100),2) -> 716.42
A25: Indlæg - Type III, par | I25: 2157 | J25: 1957.97 | K25: =ROUND(J25*(1+$E$7/100),2) -> 1991.45 | L25: =K25-M25 -> 796.58 | M25: =ROUND(K25*(1-[1]FODTERAPINØGLE!$J$16/100),2) -> 1194.87
A26: Tilretning af indlæg | I26: 2158 | J26: 308.69 | K26: =ROUND(J26*(1+$E$7/100),2) -> 313.97 | L26: =K26-M26 -> 125.59 | M26: =ROUND(K26*(1-[1]FODTERAPINØGLE!$J$16/100),2) -> 188.38
A27: Indlægsundersøgelse | I27: 2159 | J27: 393.97 | K27: =ROUND(J27*(1+$E$7/100),2) -> 400.71 | L27: =K27-M27 -> 160.28 | M27: =ROUND(K27*(1-[1]FODTERAPINØGLE!$J$16/100),2) -> 240.43
A28: Beskæringsydelser
A29: Behandlingsydelse A | I29: 2172 | J29: 307.96 | K29: =ROUND(J29*(1+$E$7/100),2) -> 313.23 | L29: =K29-M29 -> 125.29 | M29: =ROUND(K29*(1-[1]FODTERAPINØGLE!$J$16/100),2) -> 187.94
A30: Behandlingsydelse B | I30: 2173 | J30: 447.25 | K30: =ROUND(J30*(1+$E$7/100),2) -> 454.9 | L30: =K30-M30 -> 181.96 | M30: =ROUND(K30*(1-[1]FODTERAPINØGLE!$J$16/100),2) -> 272.94
A31: Behandling uden tilskud | I31: 2177 | J31: 0 | K31: =ROUND(J31*(1+$E$7/100),2) -> 0 | L31: =K31-M31 -> 0 | M31: =ROUND(K31*(1-[1]FODTERAPINØGLE!$J$16/100),2) -> 0
A32: Afstandstillæg
A33: Afstandstillæg 0-5 km | I33: 2164 | J33: 106.49 | K33: =ROUND(J33*(1+$E$7/100),2) -> 108.31 | L33: =K33-M33 -> 43.32 | M33: =ROUND(K33*(1-[1]FODTERAPINØGLE!$J$16/100),2) -> 64.99
A34: Afstandstillæg 5-10 km | I34: 2165 | J34: 127.55 | K34: =ROUND(J34*(1+$E$7/100),2) -> 129.73 | L34: =K34-M34 -> 51.89 | M34: =ROUND(K34*(1-[1]FODTERAPINØGLE!$J$16/100),2) -> 77.84
A35: Afstandstillæg over 10 km | I35: 2166 | J35: 173.4 | K35: =ROUND(J35*(1+$E$7/100),2) -> 176.37 | L35: =K35-M35 -> 70.55 | M35: =ROUND(K35*(1-[1]FODTERAPINØGLE!$J$16/100),2) -> 105.82
A36: Afstandstillæg - plejehjem/pensionist i egen hjem (0-5 km) | I36: 2167 | J36: 106.49 | K36: =ROUND(J36*(1+$E$7/100),2) -> 108.31 | L36: =K36-M36 -> 108.31 | M36: 0
A37: Afstandstillæg - plejehjem/pensionist i egen hjem (5-10 km) | I37: 2168 | J37: 127.55 | K37: =ROUND(J37*(1+$E$7/100),2) -> 129.73 | L37: =K37-M37 -> 129.73 | M37: 0
A38: Afstandstillæg - plejehjem/pensionist i egen hjem (over 10 km) | I38: 2169 | J38: 173.4 | K38: =ROUND(J38*(1+$E$7/100),2) -> 176.37 | L38: =K38-M38 -> 176.37 | M38: 0
A39: Afstandstillæg uden tilskud | I39: 2178 | J39: 0 | K39: =ROUND(J39*(1+$E$7/100),2) -> 0 | L39: =K39-M39 -> 0 | M39: =ROUND(K39*(1-[1]FODTERAPINØGLE!$J$14/100),2) -> 0
A40: Kørselsgodtgørelse
A41: Indtil 20.000 km | I41: 1001 | M41: =[1]FODTERAPINØGLE!E21 -> 3.94
A42: Over 20.000 km | I42: 1002 | M42: =[1]FODTERAPINØGLE!E22 -> 2.28

Sheet 39D
A3: Fodbehandling
A4: Fodbehandling af patienter med svær leddegigt 60
A6: Gældende fra | E6: ='[1]GENERELLE NØGLETAL'!E6 -> 1. april 2026
A7: ="Regulering pr. " & '[1]GENERELLE NØGLETAL'!E6 -> Regulering pr. 1. april 2026 | E7: =[1]FODTERAPIBEREGN!G28 -> 1.71
A9: Overenskomstens §§ 20-23
A11: Grundhonorarer og honorarer
A12: Ydelse | I12: Ydelsesnummer | J12: Honorar ved sidste afregning | K12: Fuldt honorar | L12: Tilskud | M12: Patientandel
A13: Journaloptagelse | I13: 2100 | J13: 121.59 | K13: =ROUND(J13*(1+$E$7/100),2) -> 123.67 | L13: =K13-M13 -> 61.83 | M13: =ROUND(K13*(1-[1]FODTERAPINØGLE!$J$17/100),2) -> 61.84
A14: Kontrol og/eller eftersyn samt små ydelser | I14: 2130 | J14: 100.14 | K14: =ROUND(J14*(1+$E$7/100),2) -> 101.85 | L14: =K14-M14 -> 50.92 | M14: =ROUND(K14*(1-[1]FODTERAPINØGLE!$J$17/100),2) -> 50.93
A15: Video konsultation/vejledning | I15: 2132 | J15: 282.05 | K15: =ROUND(J15*(1+$E$7/100),2) -> 286.87 | L15: =K15-M15 -> 143.43 | M15: =ROUND(K15*(1-[1]FODTERAPINØGLE!$J$17/100),2) -> 143.44
A16: Bøjlebehandling | J16: 0 | K16: =ROUND(J16*(1+$E$7/100),2) -> 0
A17: Behandling før påsætning af 1 ny bøjle | I17: 2140 | J17: 87.09 | K17: =ROUND(J17*(1+$E$7/100),2) -> 88.58 | L17: =K17-M17 -> 44.29 | M17: =ROUND(K17*(1-[1]FODTERAPINØGLE!$J$17/100),2) -> 44.29
A18: Fremstilling og påsætning af 1 ny bøjle | I18: 2141 | J18: 261.3 | K18: =ROUND(J18*(1+$E$7/100),2) -> 265.77 | L18: =K18-M18 -> 132.88 | M18: =ROUND(K18*(1-[1]FODTERAPINØGLE!$J$17/100),2) -> 132.89
A19: Fremstilling og påsætning af bøjler udover 1 | I19: 2142 | J19: 174.22 | K19: =ROUND(J19*(1+$E$7/100),2) -> 177.2 | L19: =K19-M19 -> 88.6 | M19: =ROUND(K19*(1-[1]FODTERAPINØGLE!$J$17/100),2) -> 88.6
A20: Korrektion af 1 bøjle | I20: 2143 | J20: 174.22 | K20: =ROUND(J20*(1+$E$7/100),2) -> 177.2 | L20: =K20-M20 -> 88.6 | M20: =ROUND(K20*(1-[1]FODTERAPINØGLE!$J$17/100),2) -> 88.6
A21: Korrektion af 2 bøjler | I21: 2144 | J21: 261.3 | K21: =ROUND(J21*(1+$E$7/100),2) -> 265.77 | L21: =K21-M21 -> 132.88 | M21: =ROUND(K21*(1-[1]FODTERAPINØGLE!$J$17/100),2) -> 132.89
A22: Korrektion af op til 10 bøjler inkl. | I22: 2145 | J22: 348.43 | K22: =ROUND(J22*(1+$E$7/100),2) -> 354.39 | L22: =K22-M22 -> 177.19 | M22: =ROUND(K22*(1-[1]FODTERAPINØGLE!$J$17/100),2) -> 177.2
A23: Ortheser | J23: 0 | K23: =ROUND(J23*(1+$E$7/100),2) -> 0
A24: Ortheser | I24: 2150 | J24: 174.22 | K24: =ROUND(J24*(1+$E$7/100),2) -> 177.2 | L24: =K24-M24 -> 88.6 | M24: =ROUND(K24*(1-[1]FODTERAPINØGLE!$J$17/100),2) -> 88.6
A25: Ortheser fremstillet af silicone | I25: 2151 | J25: 174.22 | K25: =ROUND(J25*(1+$E$7/100),2) -> 177.2 | L25: =K25-M25 -> 88.6 | M25: =ROUND(K25*(1-[1]FODTERAPINØGLE!$J$17/100),2) -> 88.6
A26: Indlæg
A27: Indlæg - Type I, enkelt | I27: 2152 | J27: 128.7 | K27: =ROUND(J27*(1+$E$7/100),2) -> 130.9 | L27: =K27-M27 -> 65.45 | M27: =ROUND(K27*(1-[1]FODTERAPINØGLE!$J$17/100),2) -> 65.45
A28: Indlæg - Type I, par | I28: 2153 | J28: 390 | K28: =ROUND(J28*(1+$E$7/100),2) -> 396.67 | L28: =K28-M28 -> 198.33 | M28: =ROUND(K28*(1-[1]FODTERAPINØGLE!$J$17/100),2) -> 198.34
A29: Indlæg - Type II, enkelt | I29: 2154 | J29: 651.34 | K29: =ROUND(J29*(1+$E$7/100),2) -> 662.48 | L29: =K29-M29 -> 331.24 | M29: =ROUND(K29*(1-[1]FODTERAPINØGLE!$J$17/100),2) -> 331.24
A30: Indlæg - Type II, par | I30: 2155 | J30: 1173.97 | K30: =ROUND(J30*(1+$E$7/100),2) -> 1194.04 | L30: =K30-M30 -> 597.02 | M30: =ROUND(K30*(1-[1]FODTERAPINØGLE!$J$17/100),2) -> 597.02
A31: Indlæg - Type III, enkelt | I31: 2156 | J31: 1173.97 | K31: =ROUND(J31*(1+$E$7/100),2) -> 1194.04 | L31: =K31-M31 -> 597.02 | M31: =ROUND(K31*(1-[1]FODTERAPINØGLE!$J$17/100),2) -> 597.02
A32: Indlæg - Type III, par | I32: 2157 | J32: 1957.97 | K32: =ROUND(J32*(1+$E$7/100),2) -> 1991.45 | L32: =K32-M32 -> 995.72 | M32: =ROUND(K32*(1-[1]FODTERAPINØGLE!$J$17/100),2) -> 995.73
A33: Tilretning af indlæg | I33: 2158 | J33: 308.69 | K33: =ROUND(J33*(1+$E$7/100),2) -> 313.97 | L33: =K33-M33 -> 156.98 | M33: =ROUND(K33*(1-[1]FODTERAPINØGLE!$J$17/100),2) -> 156.99
A34: Indlægsundersøgelse | I34: 2159 | J34: 393.97 | K34: =ROUND(J34*(1+$E$7/100),2) -> 400.71 | L34: =K34-M34 -> 200.35 | M34: =ROUND(K34*(1-[1]FODTERAPINØGLE!$J$17/100),2) -> 200.36
A35: Beskæringsydelser
A36: Behandlingsydelse A | I36: 2172 | J36: 307.96 | K36: =ROUND(J36*(1+$E$7/100),2) -> 313.23 | L36: =K36-M36 -> 156.61 | M36: =ROUND(K36*(1-[1]FODTERAPINØGLE!$J$17/100),2) -> 156.62
A37: Behandlingsydelse B | I37: 2173 | J37: 447.25 | K37: =ROUND(J37*(1+$E$7/100),2) -> 454.9 | L37: =K37-M37 -> 227.45 | M37: =ROUND(K37*(1-[1]FODTERAPINØGLE!$J$17/100),2) -> 227.45
A38: Behandlingsydelse C | I38: 2174 | J38: 491.58 | K38: =ROUND(J38*(1+$E$7/100),2) -> 499.99 | L38: =K38-M38 -> 249.99 | M38: =ROUND(K38*(1-[1]FODTERAPINØGLE!$J$17/100),2) -> 250
A39: Sårbehandling | I39: 2175 | J39: 226.69 | K39: =ROUND(J39*(1+$E$7/100),2) -> 230.57 | L39: =K39-M39 -> 115.28 | M39: =ROUND(K39*(1-[1]FODTERAPINØGLE!$J$17/100),2) -> 115.29
A40: Sårbehandling med anden samtidig behandling | I40: 2176 | J40: 181.1 | K40: =ROUND(J40*(1+$E$7/100),2) -> 184.2 | L40: =K40-M40 -> 92.1 | M40: =ROUND(K40*(1-[1]FODTERAPINØGLE!$J$17/100),2) -> 92.1
A41: Behandling uden tilskud | I41: 2177 | J41: 0 | K41: =ROUND(J41*(1+$E$7/100),2) -> 0 | L41: =K41-M41 -> 0 | M41: =ROUND(K41*(1-[1]FODTERAPINØGLE!$J$17/100),2) -> 0
A42: Afstandstillæg
A43: Afstandstillæg 0-5 km | I43: 2164 | J43: 106.49 | K43: =ROUND(J43*(1+$E$7/100),2) -> 108.31 | L43: =K43-M43 -> 54.15 | M43: =ROUND(K43*(1-[1]FODTERAPINØGLE!$J$17/100),2) -> 54.16
A44: Afstandstillæg 5-10 km | I44: 2165 | J44: 127.55 | K44: =ROUND(J44*(1+$E$7/100),2) -> 129.73 | L44: =K44-M44 -> 64.86 | M44: =ROUND(K44*(1-[1]FODTERAPINØGLE!$J$17/100),2) -> 64.87
A45: Afstandstillæg over 10 km | I45: 2166 | J45: 173.4 | K45: =ROUND(J45*(1+$E$7/100),2) -> 176.37 | L45: =K45-M45 -> 88.18 | M45: =ROUND(K45*(1-[1]FODTERAPINØGLE!$J$17/100),2) -> 88.19
A46: Afstandstillæg - plejehjem/pensionist i egen hjem (0-5 km) | I46: 2167 | J46: 106.49 | K46: =ROUND(J46*(1+$E$7/100),2) -> 108.31 | L46: =K46-M46 -> 108.31 | M46: 0
A47: Afstandstillæg - plejehjem/pensionist i egen hjem (5-10 km) | I47: 2168 | J47: 127.55 | K47: =ROUND(J47*(1+$E$7/100),2) -> 129.73 | L47: =K47-M47 -> 129.73 | M47: 0
A48: Afstandstillæg - plejehjem/pensionist i egen hjem (over 10 km) | I48: 2169 | J48: 173.4 | K48: =ROUND(J48*(1+$E$7/100),2) -> 176.37 | L48: =K48-M48 -> 176.37 | M48: 0
A49: Afstandstillæg uden tilskud | I49: 2178 | J49: 0 | K49: =ROUND(J49*(1+$E$7/100),2) -> 0 | L49: =K49-M49 -> 0 | M49: =ROUND(K49*(1-[1]FODTERAPINØGLE!$J$14/100),2) -> 0
A50: Kørselsgodtgørelse
A51: Indtil 20.000 km | I51: 1001 | M51: =[1]FODTERAPINØGLE!E21 -> 3.94
A52: Over 20.000 km | I52: 1002 | M52: =[1]FODTERAPINØGLE!E22 -> 2.28

Sheet 39E
A3: Fodbehandling
A4: Fodbehandling af patienter med psoriasis 60
A6: Gældende fra | E6: ='[1]GENERELLE NØGLETAL'!E6 -> 1. april 2026
A7: ="Regulering pr. " & '[1]GENERELLE NØGLETAL'!E6 -> Regulering pr. 1. april 2026 | E7: =[1]FODTERAPIBEREGN!G28 -> 1.71
A9: Overenskomstens §§ 20-23
A11: Grundhonorarer og honorarer
A12: Ydelse | I12: Ydelsesnummer | J12: Honorar ved sidste afregning | K12: Fuldt honorar | L12: Tilskud | M12: Patientandel
A13: Journaloptagelse | I13: 3100 | J13: 121.59 | K13: =ROUND(J13*(1+$E$7/100),2) -> 123.67 | L13: =K13-M13 -> 61.83 | M13: =ROUND(K13*(1-[1]FODTERAPINØGLE!$J$17/100),2) -> 61.84
A14: Kontrol og/eller eftersyn samt små ydelser | I14: 3130 | J14: 100.14 | K14: =ROUND(J14*(1+$E$7/100),2) -> 101.85 | L14: =K14-M14 -> 50.92 | M14: =ROUND(K14*(1-[1]FODTERAPINØGLE!$J$17/100),2) -> 50.93
A15: Video konsultation/vejledning | I15: 3132 | J15: 282.05 | K15: =ROUND(J15*(1+$E$7/100),2) -> 286.87 | L15: =K15-M15 -> 143.43 | M15: =ROUND(K15*(1-[1]FODTERAPINØGLE!$J$17/100),2) -> 143.44
A16: Bøjlebehandling
A17: Behandling før påsætning af 1 ny bøjle | I17: 3140 | J17: 87.09 | K17: =ROUND(J17*(1+$E$7/100),2) -> 88.58 | L17: =K17-M17 -> 44.29 | M17: =ROUND(K17*(1-[1]FODTERAPINØGLE!$J$17/100),2) -> 44.29
A18: Fremstilling og påsætning af 1 ny bøjle | I18: 3141 | J18: 261.3 | K18: =ROUND(J18*(1+$E$7/100),2) -> 265.77 | L18: =K18-M18 -> 132.88 | M18: =ROUND(K18*(1-[1]FODTERAPINØGLE!$J$17/100),2) -> 132.89
A19: Fremstilling og påsætning af bøjler udover 1 | I19: 3142 | J19: 174.22 | K19: =ROUND(J19*(1+$E$7/100),2) -> 177.2 | L19: =K19-M19 -> 88.6 | M19: =ROUND(K19*(1-[1]FODTERAPINØGLE!$J$17/100),2) -> 88.6
A20: Korrektion af 1 bøjle | I20: 3143 | J20: 174.22 | K20: =ROUND(J20*(1+$E$7/100),2) -> 177.2 | L20: =K20-M20 -> 88.6 | M20: =ROUND(K20*(1-[1]FODTERAPINØGLE!$J$17/100),2) -> 88.6
A21: Korrektion af 2 bøjler | I21: 3144 | J21: 261.3 | K21: =ROUND(J21*(1+$E$7/100),2) -> 265.77 | L21: =K21-M21 -> 132.88 | M21: =ROUND(K21*(1-[1]FODTERAPINØGLE!$J$17/100),2) -> 132.89
A22: Korrektion af op til 10 bøjler inkl. | I22: 3145 | J22: 348.43 | K22: =ROUND(J22*(1+$E$7/100),2) -> 354.39 | L22: =K22-M22 -> 177.19 | M22: =ROUND(K22*(1-[1]FODTERAPINØGLE!$J$17/100),2) -> 177.2
A23: Ortheser
A24: Ortheser | I24: 3150 | J24: 174.22 | K24: =ROUND(J24*(1+$E$7/100),2) -> 177.2 | L24: =K24-M24 -> 88.6 | M24: =ROUND(K24*(1-[1]FODTERAPINØGLE!$J$17/100),2) -> 88.6
A25: Ortheser fremstillet af silicone | I25: 3151 | J25: 174.22 | K25: =ROUND(J25*(1+$E$7/100),2) -> 177.2 | L25: =K25-M25 -> 88.6 | M25: =ROUND(K25*(1-[1]FODTERAPINØGLE!$J$17/100),2) -> 88.6
A26: Indlæg
A27: Indlæg - Type I, enkelt | I27: 3152 | J27: 128.7 | K27: =ROUND(J27*(1+$E$7/100),2) -> 130.9 | L27: =K27-M27 -> 65.45 | M27: =ROUND(K27*(1-[1]FODTERAPINØGLE!$J$17/100),2) -> 65.45
A28: Indlæg - Type I, par | I28: 3153 | J28: 390 | K28: =ROUND(J28*(1+$E$7/100),2) -> 396.67 | L28: =K28-M28 -> 198.33 | M28: =ROUND(K28*(1-[1]FODTERAPINØGLE!$J$17/100),2) -> 198.34
A29: Indlæg - Type II, enkelt | I29: 3154 | J29: 651.34 | K29: =ROUND(J29*(1+$E$7/100),2) -> 662.48 | L29: =K29-M29 -> 331.24 | M29: =ROUND(K29*(1-[1]FODTERAPINØGLE!$J$17/100),2) -> 331.24
A30: Indlæg - Type II, par | I30: 3155 | J30: 1173.97 | K30: =ROUND(J30*(1+$E$7/100),2) -> 1194.04 | L30: =K30-M30 -> 597.02 | M30: =ROUND(K30*(1-[1]FODTERAPINØGLE!$J$17/100),2) -> 597.02
A31: Indlæg - Type III, enkelt | I31: 3156 | J31: 1173.97 | K31: =ROUND(J31*(1+$E$7/100),2) -> 1194.04 | L31: =K31-M31 -> 597.02 | M31: =ROUND(K31*(1-[1]FODTERAPINØGLE!$J$17/100),2) -> 597.02
A32: Indlæg - Type III, par | I32: 3157 | J32: 1957.97 | K32: =ROUND(J32*(1+$E$7/100),2) -> 1991.45 | L32: =K32-M32 -> 995.72 | M32: =ROUND(K32*(1-[1]FODTERAPINØGLE!$J$17/100),2) -> 995.73
A33: Tilretning af indlæg | I33: 3158 | J33: 308.69 | K33: =ROUND(J33*(1+$E$7/100),2) -> 313.97 | L33: =K33-M33 -> 156.98 | M33: =ROUND(K33*(1-[1]FODTERAPINØGLE!$J$17/100),2) -> 156.99
A34: Indlægsundersøgelse | I34: 3159 | J34: 393.97 | K34: =ROUND(J34*(1+$E$7/100),2) -> 400.71 | L34: =K34-M34 -> 200.35 | M34: =ROUND(K34*(1-[1]FODTERAPINØGLE!$J$17/100),2) -> 200.36
A35: Beskæringsydelser
A36: Behandlingsydelse A | I36: 3172 | J36: 307.96 | K36: =ROUND(J36*(1+$E$7/100),2) -> 313.23 | L36: =K36-M36 -> 156.61 | M36: =ROUND(K36*(1-[1]FODTERAPINØGLE!$J$17/100),2) -> 156.62
A37: Behandlingsydelse B | I37: 3173 | J37: 447.25 | K37: =ROUND(J37*(1+$E$7/100),2) -> 454.9 | L37: =K37-M37 -> 227.45 | M37: =ROUND(K37*(1-[1]FODTERAPINØGLE!$J$17/100),2) -> 227.45
A38: Behandlingsydelse C | I38: 3174 | J38: 491.58 | K38: =ROUND(J38*(1+$E$7/100),2) -> 499.99 | L38: =K38-M38 -> 249.99 | M38: =ROUND(K38*(1-[1]FODTERAPINØGLE!$J$17/100),2) -> 250
A39: Sårbehandling | I39: 3175 | J39: 226.69 | K39: =ROUND(J39*(1+$E$7/100),2) -> 230.57 | L39: =K39-M39 -> 115.28 | M39: =ROUND(K39*(1-[1]FODTERAPINØGLE!$J$17/100),2) -> 115.29
A40: Sårbehandling med anden samtidig behandling | I40: 3176 | J40: 181.1 | K40: =ROUND(J40*(1+$E$7/100),2) -> 184.2 | L40: =K40-M40 -> 92.1 | M40: =ROUND(K40*(1-[1]FODTERAPINØGLE!$J$17/100),2) -> 92.1
A41: Behandling uden tilskud | I41: 3177 | J41: 0 | K41: =ROUND(J41*(1+$E$7/100),2) -> 0 | L41: =K41-M41 -> 0 | M41: =ROUND(K41*(1-[1]FODTERAPINØGLE!$J$17/100),2) -> 0
A42: Afstandstillæg
A43: Afstandstillæg 0-5 km | I43: 3164 | J43: 106.49 | K43: =ROUND(J43*(1+$E$7/100),2) -> 108.31 | L43: =K43-M43 -> 54.15 | M43: =ROUND(K43*(1-[1]FODTERAPINØGLE!$J$17/100),2) -> 54.16
A44: Afstandstillæg 5-10 km | I44: 3165 | J44: 127.55 | K44: =ROUND(J44*(1+$E$7/100),2) -> 129.73 | L44: =K44-M44 -> 64.86 | M44: =ROUND(K44*(1-[1]FODTERAPINØGLE!$J$17/100),2) -> 64.87
A45: Afstandstillæg over 10 km | I45: 3166 | J45: 173.4 | K45: =ROUND(J45*(1+$E$7/100),2) -> 176.37 | L45: =K45-M45 -> 88.18 | M45: =ROUND(K45*(1-[1]FODTERAPINØGLE!$J$17/100),2) -> 88.19
A46: Afstandstillæg - plejehjem/pensionist i egen hjem (0-5 km) | I46: 3167 | J46: 106.49 | K46: =ROUND(J46*(1+$E$7/100),2) -> 108.31 | L46: =K46-M46 -> 108.31 | M46: 0
A47: Afstandstillæg - plejehjem/pensionist i egen hjem (5-10 km) | I47: 3168 | J47: 127.55 | K47: =ROUND(J47*(1+$E$7/100),2) -> 129.73 | L47: =K47-M47 -> 129.73 | M47: 0
A48: Afstandstillæg - plejehjem/pensionist i egen hjem (over 10 km) | I48: 3169 | J48: 173.4 | K48: =ROUND(J48*(1+$E$7/100),2) -> 176.37 | L48: =K48-M48 -> 176.37 | M48: 0
A49: Afstandstillæg uden tilskud | I49: 3178 | J49: 0 | K49: =ROUND(J49*(1+$E$7/100),2) -> 0 | L49: =K49-M49 -> 0 | M49: =ROUND(K49*(1-[1]FODTERAPINØGLE!$J$14/100),2) -> 0
A50: Kørselsgodtgørelse
A51: Indtil 20.000 km | I51: 3001 | M51: =[1]FODTERAPINØGLE!E21 -> 3.94
A52: Over 20.000 km | I52: 3002 | M52: =[1]FODTERAPINØGLE!E22 -> 2.28
